BEGIN:VCALENDAR
VERSION:2.0
PRODID:-//Liszt Ferenc Zeneiskola - ECPv6.15.12.2//NONSGML v1.0//EN
CALSCALE:GREGORIAN
METHOD:PUBLISH
X-WR-CALNAME:Liszt Ferenc Zeneiskola
X-ORIGINAL-URL:https://www.lisztzeneiskola.hu
X-WR-CALDESC:Események Liszt Ferenc Zeneiskola
REFRESH-INTERVAL;VALUE=DURATION:PT1H
X-Robots-Tag:noindex
X-PUBLISHED-TTL:PT1H
BEGIN:VTIMEZONE
TZID:Europe/Budapest
BEGIN:DAYLIGHT
TZOFFSETFROM:+0100
TZOFFSETTO:+0200
TZNAME:CEST
DTSTART:20250330T010000
END:DAYLIGHT
BEGIN:STANDARD
TZOFFSETFROM:+0200
TZOFFSETTO:+0100
TZNAME:CET
DTSTART:20251026T010000
END:STANDARD
BEGIN:DAYLIGHT
TZOFFSETFROM:+0100
TZOFFSETTO:+0200
TZNAME:CEST
DTSTART:20260329T010000
END:DAYLIGHT
BEGIN:STANDARD
TZOFFSETFROM:+0200
TZOFFSETTO:+0100
TZNAME:CET
DTSTART:20261025T010000
END:STANDARD
BEGIN:DAYLIGHT
TZOFFSETFROM:+0100
TZOFFSETTO:+0200
TZNAME:CEST
DTSTART:20270328T010000
END:DAYLIGHT
BEGIN:STANDARD
TZOFFSETFROM:+0200
TZOFFSETTO:+0100
TZNAME:CET
DTSTART:20271031T010000
END:STANDARD
END:VTIMEZONE
BEGIN:VEVENT
DTSTART;TZID=Europe/Budapest:20260423T163000
DTEND;TZID=Europe/Budapest:20260423T163000
DTSTAMP:20260423T013038
CREATED:20260330T091716Z
LAST-MODIFIED:20260330T091814Z
UID:3517-1776961800-1776961800@www.lisztzeneiskola.hu
SUMMARY:Növendékhangverseny
DESCRIPTION:Szeretettel várjuk a Liszt Ferenc Zeneiskola növendékeinek hangversenyére\, ahol tehetséges fiatal zenészeink lépnek színpadra. A koncert célja\, hogy bemutassa diákjaink fejlődését\, szorgalmát és zenei érzékenységét\, valamint inspiráló élményt nyújtson minden zenekedvelő számáraLegyen részese ennek a különleges estnek\, ahol a klasszikus zene ereje és a fiatal művészek lelkesedése találkozik!
URL:https://www.lisztzeneiskola.hu/lfzi-esemenyek/novendekhangverseny-44/
LOCATION:Nádorvárosi Általános iskola\, 9024 Győr\, Kálvária u. 20.\, Győr-Moson-Sopron Vármegye\, Hungary
CATEGORIES:Eseményeink
ATTACH;FMTTYPE=image/jpeg:https://www.lisztzeneiskola.hu/wp-content/uploads/2026/01/Kalvaria2-e1771335839172.jpg
ORGANIZER;CN="Liszt Ferenc Zeneiskola-Alapfok%C3%BA M%C5%B1v%C3%A9szeti Iskola":MAILTO:lisztzeneiskola@gmail.com
END:VEVENT
BEGIN:VEVENT
DTSTART;TZID=Europe/Budapest:20260505T163000
DTEND;TZID=Europe/Budapest:20260505T163000
DTSTAMP:20260423T013038
CREATED:20260330T093752Z
LAST-MODIFIED:20260330T093752Z
UID:3539-1777998600-1777998600@www.lisztzeneiskola.hu
SUMMARY:Növendékhangverseny
DESCRIPTION:Szeretettel várjuk a Liszt Ferenc Zeneiskola növendékeinek hangversenyére\, ahol tehetséges fiatal zenészeink lépnek színpadra. A koncert célja\, hogy bemutassa diákjaink fejlődését\, szorgalmát és zenei érzékenységét\, valamint inspiráló élményt nyújtson minden zenekedvelő számáraLegyen részese ennek a különleges estnek\, ahol a klasszikus zene ereje és a fiatal művészek lelkesedése találkozik!
URL:https://www.lisztzeneiskola.hu/lfzi-esemenyek/novendekhangverseny-52/
LOCATION:Nádorvárosi Általános iskola\, 9024 Győr\, Kálvária u. 20.\, Győr-Moson-Sopron Vármegye\, Hungary
CATEGORIES:Eseményeink
ATTACH;FMTTYPE=image/jpeg:https://www.lisztzeneiskola.hu/wp-content/uploads/2026/01/Kalvaria2-e1771335839172.jpg
ORGANIZER;CN="Liszt Ferenc Zeneiskola-Alapfok%C3%BA M%C5%B1v%C3%A9szeti Iskola":MAILTO:lisztzeneiskola@gmail.com
END:VEVENT
BEGIN:VEVENT
DTSTART;TZID=Europe/Budapest:20260423T170000
DTEND;TZID=Europe/Budapest:20260423T170000
DTSTAMP:20260423T013038
CREATED:20260420T224744Z
LAST-MODIFIED:20260420T224759Z
UID:3627-1776963600-1776963600@www.lisztzeneiskola.hu
SUMMARY:Növendékhangverseny
DESCRIPTION:Szeretettel várjuk a Liszt Ferenc Zeneiskola növendékeinek hangversenyére\, ahol tehetséges fiatal zenészeink lépnek színpadra. A koncert célja\, hogy bemutassa diákjaink fejlődését\, szorgalmát és zenei érzékenységét\, valamint inspiráló élményt nyújtson minden zenekedvelő számára.Legyen részese ennek a különleges estnek\, ahol a klasszikus zene ereje és a fiatal művészek lelkesedése találkozik!
URL:https://www.lisztzeneiskola.hu/lfzi-esemenyek/novendekhangverseny-58/
LOCATION:Liszt Ferenc Zeneiskola – Hangversenyterem\, 9022 Győr\, Liszt Ferenc u. 6.\, Győr-Moson-Sopron Vármegye\, Hungary
CATEGORIES:Eseményeink
ATTACH;FMTTYPE=image/jpeg:https://www.lisztzeneiskola.hu/wp-content/uploads/2026/01/szentivan-e1771335656201.jpg
ORGANIZER;CN="Liszt Ferenc Zeneiskola-Alapfok%C3%BA M%C5%B1v%C3%A9szeti Iskola":MAILTO:lisztzeneiskola@gmail.com
END:VEVENT
END:VCALENDAR